BEGIN:VCALENDAR
VERSION:2.0
PRODID:-//Université d&#039;Ottawa - Bureau de développement professionnel continue - ECPv6.15.20//NONSGML v1.0//EN
CALSCALE:GREGORIAN
METHOD:PUBLISH
X-WR-CALNAME:Université d&#039;Ottawa - Bureau de développement professionnel continue
X-ORIGINAL-URL:https://cpduottawa.ca/fr/
X-WR-CALDESC:Évènements pour Université d&#039;Ottawa - Bureau de développement professionnel continue
REFRESH-INTERVAL;VALUE=DURATION:PT1H
X-Robots-Tag:noindex
X-PUBLISHED-TTL:PT1H
BEGIN:VTIMEZONE
TZID:UTC
BEGIN:STANDARD
TZOFFSETFROM:+0000
TZOFFSETTO:+0000
TZNAME:UTC
DTSTART:20230101T000000
END:STANDARD
END:VTIMEZONE
BEGIN:VEVENT
DTSTART;VALUE=DATE:20240417
DTEND;VALUE=DATE:20240420
DTSTAMP:20260420T123706
CREATED:20240209T135959Z
LAST-MODIFIED:20240305T182650Z
UID:10000026-1713312000-1713571199@cpduottawa.ca
SUMMARY:73e cours de perfectionnement annuel pour les médecins de famille
DESCRIPTION:[vc_row type= »in_container » full_screen_row_position= »middle » column_margin= »default » column_direction= »default » column_direction_tablet= »default » column_direction_phone= »default » scene_position= »center » text_color= »dark » text_align= »left » row_border_radius= »none » row_border_radius_applies= »bg » overflow= »visible » overlay_strength= »0.3″ gradient_direction= »left_to_right » shape_divider_position= »bottom » bg_image_animation= »none »][vc_column column_padding= »no-extra-padding » column_padding_tablet= »inherit » column_padding_phone= »inherit » column_padding_position= »all » column_element_direction_desktop= »default » column_element_spacing= »default » desktop_text_alignment= »default » tablet_text_alignment= »default » phone_text_alignment= »default » background_color_opacity= »1″ background_hover_color_opacity= »1″ column_backdrop_filter= »none » column_shadow= »none » column_border_radius= »none » column_link_target= »_self » column_position= »default » gradient_direction= »left_to_right » overlay_strength= »0.3″ width= »1/1″ tablet_width_inherit= »default » animation_type= »default » bg_image_animation= »none » border_type= »simple » column_border_width= »none » column_border_style= »solid »][vc_column_text]\n[vc_row][vc_column width= »1/1″][vc_column_text]\nCe programme d’apprentissage est conçu pour fournir aux médecins de famille et autres professionnels de la santé des informations pertinentes et récentes des approche du diagnostique et de la gestion des êtat de santé couvrant tous les niveaux de la médecine familiale en milieu urbain et rural. Chaque journée consistera en un mélange de conférences et d’ateliers conçu spécifiquement pour les médecins de famille et les professionnels de la santé\, ce qui permets aux participants de personnaliser leur expérience d’apprentissage. \nDu 17 au 19 avril 2024\, 2024\nConférence partiellement hybride\nCentre de conférence et d’évènement d’Ottawa (200 route Coventry\, Ottawa\, ON)\n18\,00 RCPSC Section 1 | 18\,00 crédits Mainpro+ | 18 AMA PRA Crédits Categorie 1\nSite web de l’évènement\nInscrivez-vous!\nInformation commanditaires \nFrais d’inscription et information – Inscrivez-vous maintenant! \nInscrivez vous avant le 15 mars 2024 et épargnez!\nInscription pour assister en personne termine le 14 avril 2024. Inscription sur place disponible si des places sont encore libre. \nObjectifs d’apprentissage:\n À la fin de la conférence\, les participants devraient être en mesure de: identifier et discuter des informations pertinentes et récentes des approche du diagnostique et de la gestion des êtat de santé couvrant tous les niveaux de la médecine familiale en milieu urbain et rural. \nQuestions? \nVeuillez contacter Laura Darbon\, coordonatrice principale\,73e cours de perfectionnement annuel pour les médecins de famille[/vc_column_text][/vc_column][/vc_row]
URL:https://cpduottawa.ca/fr/event/73e-cours-de-perfectionnement-annuel-pour-les-medecins-de-famille/
LOCATION:Ottawa Conference & Event Centre\, 200 Coventry Rd\, Ottawa\, Ontario\, K1K 4S3\, Canada
CATEGORIES:événement,Professionels alliés de la santé,Résidents,Soins primaires
ATTACH;FMTTYPE=image/png:https://cpduottawa.ca/wp-content/uploads/2024/02/AR-banner-2024-1048-x-250-px-1.png
END:VEVENT
END:VCALENDAR