BEGIN:VCALENDAR
VERSION:2.0
PRODID:-//Université d&#039;Ottawa - Bureau de développement professionnel continue - ECPv6.15.20//NONSGML v1.0//EN
CALSCALE:GREGORIAN
METHOD:PUBLISH
X-WR-CALNAME:Université d&#039;Ottawa - Bureau de développement professionnel continue
X-ORIGINAL-URL:https://cpduottawa.ca/fr/
X-WR-CALDESC:Évènements pour Université d&#039;Ottawa - Bureau de développement professionnel continue
REFRESH-INTERVAL;VALUE=DURATION:PT1H
X-Robots-Tag:noindex
X-PUBLISHED-TTL:PT1H
BEGIN:VTIMEZONE
TZID:UTC
BEGIN:STANDARD
TZOFFSETFROM:+0000
TZOFFSETTO:+0000
TZNAME:UTC
DTSTART:20240101T000000
END:STANDARD
END:VTIMEZONE
BEGIN:VEVENT
DTSTART;VALUE=DATE:20250130
DTEND;VALUE=DATE:20250202
DTSTAMP:20260419T195800
CREATED:20240319T161232Z
LAST-MODIFIED:20241209T154052Z
UID:10000062-1738195200-1738454399@cpduottawa.ca
SUMMARY:Cours pour les résidents de la Société Canadienne des épaules et coudes
DESCRIPTION:Inscrivez-vous maintenant\nDu 30 janvier au 1er février 2025\nSite web de la conférence \n*Cette session est offerte en anglais seulement \nFrais d’inscription\nDate limite pour l’inscription avancée: le 20 décembre 2024\nPostdoctorales (années 3 à 5) et boursiers des membres supérieurs – inscription avancée : $225\nPostdoctorales (années 3 à 5) et boursiers des membres supérieurs – inscription régulier : $260 \nVos frais d’inscription comprennent trois jours d’activités exceptionnelles\, incluant l’accès aux laboratoires de compétences chirurgicales et un billet pour la réception et le dîner du cours CSES\, qui auront lieu le 30 janvier 2025. \nPoints marquants\n*Plus de 20 enseignants experts\nSessions interactives en petit groupe basée sur des cas.\n4 ateliers pratiques en laboratoires: \n\nArthroscopie du coude\nArthroscopie de l’épaule\nArthroplastie de l’épaule\nInjections guidées par ultrason\n\nEmplacement du cours\nUniversité d’Ottawa\, Centre de compétences et de simulation (725 Avenue Parkdale\, 1er étage\, Ottawa)\nUne navette entre l’hôtel Lord Elgin et le Centre de compétences et de simulation de l’Université d’Ottawa sera disponible tous les jours pour les participants. \nHébergement\nUn bloc de chambre a été mis de côté à l’hôtel Lord Elgin\, situé en plein coeur du centre-ville d’Ottawa. Pour plus d’informations\, veuillez contacter Sheena Levesque\, coordonatrice principale\, Cours pour les résidents de la Société Canadienne des épaules et coudes. \n*sujet à changement
URL:https://cpduottawa.ca/fr/event/cours-pour-les-residents-de-la-societe-canadienne-des-epaules-et-coudes/
LOCATION:ontario
CATEGORIES:Fellows,Résidents,Spécialistes
ATTACH;FMTTYPE=image/png:https://cpduottawa.ca/wp-content/uploads/2024/03/KNEE2024-Header-1048-x-250-px-1.png
END:VEVENT
BEGIN:VEVENT
DTSTART;TZID=UTC:20250205T083000
DTEND;TZID=UTC:20250205T160000
DTSTAMP:20260419T195800
CREATED:20241115T140306Z
LAST-MODIFIED:20241115T140702Z
UID:10000148-1738744200-1738771200@cpduottawa.ca
SUMMARY:Série Cruciale - Atteindre ses objectifs
DESCRIPTION:Atteindre ses objectifs – Cours de 1 jour\nMercredi 5 février\, 2025 | 8h30 à 16h00 \nDate limite d’inscription : 2 février\, 2025\nPublic cible : Tous les membres du corps professoral de la Faculté de médecine\nConférencière : Mme Sara Munroe\nLieu : En personne à la Faculté de médecine\, Pavillon Roger Guindon\, Salle à déterminer\nInscrivez-vous maintenant\nPlus d’informations \nCes cours et le formulaire d’inscription sont en Anglais seulement. \nTarifs :\nRésidents : 400 $ par cours ou 800 $ pour les trois cours (économie de 6 700 $ !)\nInscrits affiliés à l’Université d’Ottawa\, Faculté de médecine : 500 $ par cours ou 1 000 $ pour les trois cours (économie de 6 500 $ !)\nInscrits non affiliés à l’Université d’Ottawa\, Faculté de médecine : 2 500 $ par cours ou 5 000 $ pour les trois cours (économie de 2 500 $ !)\n\nLes frais comprennent tous les matériaux et le diner. \nPolitique d’annulation : Les remboursements\, moins des frais administratifs de 75 $\, seront accordés pour les annulations reçues par écrit avant le 2 février\, 2025. Aucun remboursement ne sera effectué pour les annulations reçues après cette date. \nDescription du cours :\nLa méthodologie Getting Things Done® (GTD®) a été développée il y a 30 ans par David Allen\, auteur à succès du New York Times. Ce cours enseigne les compétences nécessaires pour gérer le flux constant de demandes\, tâches et interruptions auquel font face les personnes à tous les niveaux de l’organisation. En apprenant à capturer\, clarifier et organiser les demandes entrantes\, les participants sont plus à même de prendre des décisions stratégiques sur l’endroit où investir leur temps et leur énergie\, de se concentrer sur les bonnes priorités et d’éviter que des projets critiques ne passent entre les mailles du filet. Utilisées de manière cohérente et collective\, les compétences GTD offrent aux équipes une « façon de travailler » pour des résultats améliorés. L’expérience en présentiel de Getting Things Done est un cours interactif riche en discussions entre pairs\, pratique en temps réel\, et coaching et soutien de groupe. Ce cours d’une journée en présentiel offre le meilleur de l’apprentissage et du développement traditionnel. \nQuestions ? Veuillez contacter cpd@uottawa.ca
URL:https://cpduottawa.ca/fr/event/serie-cruciale-atteindre-ses-objectifs/
LOCATION:University of Ottawa Roger Guindon Hall\, 451 Smyth Rd\, Ottawa\, Ontario\, K1N 6N5\, Canada
CATEGORIES:Amélioration des pratiques,chercheurs,Développement du corps professoral,événement,Fellows,Grand public,Physiciens,Professionels alliés de la santé,Psychiatrie,Résidents,sciences fondamentales,Soins infirmiers,Soins primaires,Spécialistes
ATTACH;FMTTYPE=image/png:https://cpduottawa.ca/wp-content/uploads/2024/07/ECT-Banner-3.png
END:VEVENT
BEGIN:VEVENT
DTSTART;TZID=UTC:20250210T120000
DTEND;TZID=UTC:20250210T131500
DTSTAMP:20260419T195800
CREATED:20241028T184826Z
LAST-MODIFIED:20241028T191532Z
UID:10000105-1739188800-1739193300@cpduottawa.ca
SUMMARY:Série de webinaires sur la rhumatologie pour les soins primaires 2025 : Maladies auto-immunes du tissu conjonctif : un guide pour le médecin de soins primaires sur le lupus érythémateux systémique (LES) et le syndrome de Sjögren
DESCRIPTION:*Cette session est offerte uniquement en anglais*\n\n\n\n\nInscrivez-vous maintenant !\nSérie de webinaires sur la rhumatologie pour les soins primaires 2025\n13 janvier | 27 janvier | 10 février | 3 mars | 24 mars 2025\n12 h 00 – 13 h 15 (heure de l’Est) \nLe Bureau de la formation professionnelle continue et la Division de rhumatologie de l’Hôpital d’Ottawa ont mis sur pied une série de webinaires destinés aux médecins de famille\, axée sur la rhumatologie. La série de webinaires clarifie le processus de référence en rhumatologie\, fournit des informations sur les ressources communautaires pour le traitement de l’arthrite\, et décrit quand commander des examens de rhumatologie courants et comment interpréter leurs résultats. La série de webinaires intégrera les questions des participants (collectées avant chaque session) liées au sujet présenté\, afin de garantir que chaque présentation soit aussi pertinente et utile que possible pour l’audience. Le format sera une présentation didactique utilisant des scénarios basés sur des cas\, suivie d’une période de questions-réponses. \nInscrivez-vous pour la série complète ou pour des sessions individuelles !\nDate limite d’inscription anticipée : 16 décembre 2024 \n\nTarifs anticipés pour la série complète Médecins et autres professionnels de la santé : 120 $ + TPS\nTarifs anticipés pour la série complète Résidents : 80 $ + TPS\nTarifs réguliers pour la série complète Médecins et autres professionnels de la santé : 165 $ + TPS\nTarifs réguliers pour la série complète Résidents : 100 $ + TPS\nSessions individuelles : 50 $ + TPS\n\nCalendrier des sessions \nLundi 10 février 2025\nMaladies auto-immunes du tissu conjonctif : un guide pour le médecin de soins primaires sur le lupus érythémateux systémique (LES) et le syndrome de Sjögren\nDr. Maysoon Eldoma \nLundi 3 mars 2025\nDiagnostic et gestion basée sur des preuves de la goutte en soins primaires\nDr. Priyanka Chandratre \nLundi 24 mars 2025\nDiagnostic et gestion de la polymyalgia rheumatica (PMR) et de l’artérite à cellules géantes (ACG)\nDr. Raymond Chu \nDes questions ?\nVeuillez contacter Kristen McCoy\, Coordinatrice principale\, Gestion des événements
URL:https://cpduottawa.ca/fr/event/serie-de-webinaires-sur-la-rhumatologie-pour-les-soins-primaires-2025-maladies-auto-immunes-du-tissu-conjonctif-un-guide-pour-le-medecin-de-soins-primaires-sur-le-lupus-erythemateux-systemique-le/
LOCATION:ontario
CATEGORIES:Amélioration des pratiques,Professionels alliés de la santé,Résidents,Soins infirmiers,Soins primaires,Spécialistes
ATTACH;FMTTYPE=image/png:https://cpduottawa.ca/wp-content/uploads/2024/10/RHEUM-Banner.png
END:VEVENT
BEGIN:VEVENT
DTSTART;VALUE=DATE:20250218
DTEND;VALUE=DATE:20250220
DTSTAMP:20260419T195800
CREATED:20241114T211326Z
LAST-MODIFIED:20250121T125043Z
UID:10000116-1739836800-1740009599@cpduottawa.ca
SUMMARY:Approche de choix et de partenariat 3e Conférence virtuelle internationale
DESCRIPTION:Approche de choix et de partenariat 3e Conférence virtuelle internationale\n18-19 février 2025 Canada/Europe\n19-20 février 2025 Australie/Nouvelle-Zélande\nInscrivez-vous maintenant !\nSoumettez votre contribution\nVisitez notre site web pour plus d’informations \n*Ce programme est offert en anglais uniquement* \nDates importantes\nOuverture de l’appel à contribution : 9 octobre 2024\nClôture de l’appel à contributions : 15 novembre 2024\nNotification des acceptations : 11 décembre 2024\nOuverture des inscriptions : janvier 2025 \nRejoignez-nous virtuellement !\nLa 3e conférence internationale CAPA offrira aux équipes de santé mentale qui utilisent – ​​ou sont curieuses de connaître – le modèle CAPA\, un espace pour discuter d’idées et d’expériences pratiques dans leur travail avec les enfants\, les jeunes et les familles. Nous reconnaissons que les expériences vécues par les enfants\, les jeunes et leurs tuteurs sont essentielles pour façonner des discussions et un apprentissage significatifs. Nous invitons les jeunes et les soignants à participer activement\, car leurs idées enrichiront grandement notre parcours commun. Ensemble\, nous visons à bâtir une communauté mondiale solidaire et à faire progresser l’excellence dans les soins de santé mentale. \nQuestions ? Contacter Kristen McCoy\, Coordinatrice principale
URL:https://cpduottawa.ca/fr/event/approche-de-choix-et-de-partenariat-3e-conference-virtuelle-internationale/
LOCATION:Virtual Program
CATEGORIES:Développement du corps professoral,événement,Grand public,Physiciens,Professionels alliés de la santé,Psychiatrie,Résidents,Soins infirmiers,Soins primaires,Spécialistes
ATTACH;FMTTYPE=image/png:https://cpduottawa.ca/wp-content/uploads/2024/11/e3f4204aeed147bda9f69a45d2e1aef2-2.png
END:VEVENT
BEGIN:VEVENT
DTSTART;VALUE=DATE:20250228
DTEND;VALUE=DATE:20250301
DTSTAMP:20260419T195800
CREATED:20240318T191650Z
LAST-MODIFIED:20240619T181500Z
UID:10000066-1740700800-1740787199@cpduottawa.ca
SUMMARY:Mise à jour 2025 en la santé des femmes
DESCRIPTION:[vc_row type= »in_container » full_screen_row_position= »middle » column_margin= »default » column_direction= »default » column_direction_tablet= »default » column_direction_phone= »default » scene_position= »center » text_color= »dark » text_align= »left » row_border_radius= »none » row_border_radius_applies= »bg » overflow= »visible » overlay_strength= »0.3″ gradient_direction= »left_to_right » shape_divider_position= »bottom » bg_image_animation= »none »][vc_column column_padding= »no-extra-padding » column_padding_tablet= »inherit » column_padding_phone= »inherit » column_padding_position= »all » column_element_direction_desktop= »default » column_element_spacing= »default » desktop_text_alignment= »default » tablet_text_alignment= »default » phone_text_alignment= »default » background_color_opacity= »1″ background_hover_color_opacity= »1″ column_backdrop_filter= »none » column_shadow= »none » column_border_radius= »none » column_link_target= »_self » column_position= »default » gradient_direction= »left_to_right » overlay_strength= »0.3″ width= »1/1″ tablet_width_inherit= »default » animation_type= »default » bg_image_animation= »none » border_type= »simple » column_border_width= »none » column_border_style= »solid »][vc_column_text]Rejoignez-nous pour une conférence d’une journée consacrée à la santé des femmes – inscrivez-vous dès maintenant !   \nConçu spécialement pour les médecins de famille et les professionnels de la santé\, cet événement permettra d’approfondir les dernières connaissances et les approches de pointe en matière de santé des femmes\, qu’il s’agisse des besoins des jeunes femmes ou de ceux des femmes d’âge mûr. Ne manquez pas cette occasion d’améliorer votre expertise et d’entrer en contact avec des leaders du domaine qui sont passionnés par l’amélioration des soins pour les femmes à tous les stades de la vie. \n28 février 2025\nEn personne\nCentre Infinity (2901 Gibford Dr\, Ottawa)\nVisitez le site web de l’événement\nInscrivez-vous dès maintenant !\nOpportunités de commandites. \nA l’issue de cette conférence\, les participants devraient être en mesure de :  \nMettre en œuvre des données actualisées sur le diagnostic\, la prévention et la prise en charge des problèmes courants de santé des femmes (y compris dans les domaines gynécologiques et non gynécologiques) ; discuter des stratégies de prise en charge/pratique dans les domaines où les données sont insuffisantes ; mettre en relation les spécialistes de la santé des femmes de la région d’Ottawa et faciliter le travail en réseau entre praticiens partageant les mêmes idées. \nInscrivez-vous avant le 31 août 2024 et profitez de notre tarif « Super Early Bird » ! \nLa date de clôture du tarif préférentiel est fixée au 24 janvier 2025. \nLes inscriptions sont closes le 25 février 2025. Inscription sur place disponible si des places sont encore libre. \nQuestions? \nVeuillez contacter Kaitlin Moberg\, coordinatrice principale\, mise à jour 2025 en la santé des femmes[/vc_column_text][/vc_column][/vc_row]
URL:https://cpduottawa.ca/fr/event/mise-a-jour-2025-en-la-sante-des-femmes/
LOCATION:Infinity Centre\, 2901 Gibford Dr\, Ottawa\, Ontario\, K1V 2L9\, Canada
CATEGORIES:Résidents,Soins primaires
ATTACH;FMTTYPE=image/png:https://cpduottawa.ca/wp-content/uploads/2024/03/WH2025-Save-the-Date-1048-x-250-px-1.png
END:VEVENT
END:VCALENDAR