BEGIN:VCALENDAR
VERSION:2.0
PRODID:-//Université d&#039;Ottawa - Bureau de développement professionnel continue - ECPv6.15.20//NONSGML v1.0//EN
CALSCALE:GREGORIAN
METHOD:PUBLISH
X-WR-CALNAME:Université d&#039;Ottawa - Bureau de développement professionnel continue
X-ORIGINAL-URL:https://cpduottawa.ca/fr/
X-WR-CALDESC:Évènements pour Université d&#039;Ottawa - Bureau de développement professionnel continue
REFRESH-INTERVAL;VALUE=DURATION:PT1H
X-Robots-Tag:noindex
X-PUBLISHED-TTL:PT1H
BEGIN:VTIMEZONE
TZID:UTC
BEGIN:STANDARD
TZOFFSETFROM:+0000
TZOFFSETTO:+0000
TZNAME:UTC
DTSTART:20230101T000000
END:STANDARD
END:VTIMEZONE
BEGIN:VEVENT
DTSTART;TZID=UTC:20241023T120000
DTEND;TZID=UTC:20241023T130000
DTSTAMP:20260420T021851
CREATED:20240715T151206Z
LAST-MODIFIED:20240723T141732Z
UID:10000077-1729684800-1729688400@cpduottawa.ca
SUMMARY:La stratégie actualisée de prévention et d'intervention en matière de surdoses d'Ottawa\, la prévention du suicide et l'intervention post-suicide (Webinaire)
DESCRIPTION:Inscrivez-vous aux 3 webinaires et économisez\, une inscription à une session unique est également disponible.\n23 octobre\, 30 octobre et 6 novembre 2024 de 12:00 à 13:00 chaque semaine.\n1 crédit Mainpro+ du CMFC par webinaire\nPour consulter tous les détails du webinaire\, veuillez cliquer ici.\nInscrivez-vous!  \nDans un paysage de santé publique qui évolue rapidement\, il est essentiel pour les professionnels de la santé de rester informés et proactifs. Nous sommes ravis de vous présenter une série complète de webinaires en trois parties\, conçus pour permettre aux médecins de premier recours et aux professionnels paramédicaux d’acquérir les stratégies et les outils les plus récents pour relever les défis cruciaux en matière de santé publique à Ottawa. Chaque session d’une heure combine un enseignement didactique et un apprentissage interactif pour favoriser une expérience engageante et enrichissante. Ce cours est offert uniquement en anglais. Pour les offres de développement professionnels continue de la faculté de médecine de l’université d’Ottawa\, veuillez consulter le site web du bureau des affaires francophones \n\nStratégie actualisée de prévention et d’intervention en cas d’overdose\, de prévention du suicide et d’intervention post-suicide d’Ottawa\n23 octobre 2024 | 12:00 – 13:00\nCette session est conçue pour les fournisseurs de soins primaires (PCP) afin de les informer sur la stratégie de réponse aux overdoses d’Ottawa et sur la stratégie en matière de santé mentale. L’accent sera mis sur les données\, les outils\, les ressources et la manière d’accéder aux ressources locales. Cette session aidera les PCP à soutenir leurs patients\, quelle que soit leur position sur le spectre de la consommation de substances\, des idées suicidaires et du soutien post-suicide pour les proches. \n  \nAutres webinaires de cette série – Inscrivez-vous aux 3 webinaires et économisez\, l’inscription à une session unique est également disponible. \nProgrammes et services régionaux de réduction des risques – y compris la vérification des médicaments et les services mobiles\n30 octobre 2024 | 12:00 – 13:00\nCette session se concentre sur les programmes\, services et ressources de réduction des risques gratuits\, fixes\, mobiles et virtuels\, y compris les services de vérification des drogues disponibles à Ottawa par l’intermédiaire de partenaires communautaires et de SPO. Les participants apprendront comment et où orienter leurs patients qui consomment des substances vers des services de sauvetage.  \nFaire progresser les services de santé sexuelle grâce à la technologie et à l’innovation – GetaKit\, Sex it Smart et plus encore !\n6 novembre 2024 | 12:00 – 13:00\nCette session se concentre sur la fourniture de services complets de santé sexuelle dans le cadre des soins primaires. Des informations sur les tests de gonorrhée et de chlamydia effectués par les clients eux-mêmes et sur les tests de dépistage du VIH\, de la syphilis et de l’hépatite C effectués en laboratoire seront abordées. Discussion sur les possibilités de dépistage du VIH par le biais d’autotests anonymes ou recueillis par le client. Des informations sur la façon de recevoir gratuitement des options de traitement de l’ITSS dans vos cliniques. En outre\, nous discuterons des programmes de santé sexuelle de l’OPH disponibles – test STBBI\, contraception à faible coût ou sans coût et préservatifs gratuits – avec des services fournis dans un cadre fixe\, des services mobiles de proximité\, des envois postaux et plus encore.  \nACCREDITATION\nCe programme d’apprentissage en groupe d’un crédit par heure répond aux critères de certification du Collège des médecins de famille du Canada et a été certifié par le Bureau du développement professionnel continu de l’Université d’Ottawa pour un maximum de 3\,0 crédits Mainpro+ (1 crédit par webinaire).
URL:https://cpduottawa.ca/fr/event/webinaire-du-spo-la-strategie-actualisee-de-prevention-et-dintervention-en-matiere-de-surdoses-dottawa-la-prevention-du-suicide-et-lintervention-post-suicide/
LOCATION:Virtual Program
CATEGORIES:Résidents,Soins infirmiers,Soins primaires,Spécialistes
ATTACH;FMTTYPE=image/png:https://cpduottawa.ca/wp-content/uploads/2024/07/ECT-Banner.png
END:VEVENT
BEGIN:VEVENT
DTSTART;TZID=UTC:20241030T120000
DTEND;TZID=UTC:20241030T130000
DTSTAMP:20260420T021851
CREATED:20240715T152433Z
LAST-MODIFIED:20240723T141928Z
UID:10000079-1730289600-1730293200@cpduottawa.ca
SUMMARY:Programmes et services régionaux de réduction des risques - y compris le Drug Checking et les services mobiles (Webinaire)
DESCRIPTION:Inscrivez-vous aux 3 webinaires et économisez\, une inscription à une session unique est également disponible.\n23 octobre\, 30 octobre et 6 novembre 2024 de 12:00 à 13:00 chaque semaine.\n1 crédit Mainpro+ du CMFC par webinaire\nPour consulter tous les détails du webinaire\, veuillez cliquer ici.\nInscrivez-vous!  \nDans un paysage de santé publique en évolution rapide\, il est essentiel pour les professionnels de la santé de rester informés et proactifs. Nous sommes ravis de vous présenter une série complète de webinaires en trois parties\, conçus pour permettre aux médecins de premier recours et aux professionnels paramédicaux d’acquérir les stratégies et les outils les plus récents pour relever les défis cruciaux en matière de santé publique à Ottawa. Chaque session d’une heure combine un enseignement didactique et un apprentissage interactif pour favoriser une expérience engageante et enrichissante. Ce cours est offert uniquement en anglais. Pour les offres de développement professionnels continue de la faculté de médecine de l’université d’Ottawa\, veuillez consulter le site web du bureau des affaires francophones \nProgrammes et services régionaux de réduction des risques – y compris la vérification des médicaments et les services mobiles\n30 octobre 2024 | 12:00 – 13:00\nCette session se concentre sur les programmes\, services et ressources de réduction des risques gratuits\, fixes\, mobiles et virtuels\, y compris les services de vérification des drogues disponibles à Ottawa par l’intermédiaire de partenaires communautaires et de SPO. Les participants apprendront comment et où orienter leurs patients qui consomment des substances vers des services de sauvetage. \n  \nAutres webinaires de cette série – Inscrivez-vous aux 3 webinaires et économisez\, l’inscription à une session unique est également disponible. \nStratégie actualisée de prévention et d’intervention en cas d’overdose\, de prévention du suicide et d’intervention post-suicide d’Ottawa\n23 octobre 2024 | 12:00 – 13:00\nCette session est conçue pour les fournisseurs de soins primaires (PCP) afin de les informer sur la stratégie de réponse aux overdoses d’Ottawa et sur la stratégie en matière de santé mentale. L’accent sera mis sur les données\, les outils\, les ressources et la manière d’accéder aux ressources locales. Cette session aidera les PCP à soutenir leurs patients\, quelle que soit leur position sur le spectre de la consommation de substances\, des idées suicidaires et du soutien post-suicide pour les proches.  \nFaire progresser les services de santé sexuelle grâce à la technologie et à l’innovation – GetaKit\, Sex it Smart et plus encore !\n6 novembre 2024 | 12:00 – 13:00\nCette session se concentre sur la fourniture de services complets de santé sexuelle dans le cadre des soins primaires. Des informations sur les tests de gonorrhée et de chlamydia effectués par les clients eux-mêmes et sur les tests de dépistage du VIH\, de la syphilis et de l’hépatite C effectués en laboratoire seront abordées. Discussion sur les possibilités de dépistage du VIH par le biais d’autotests anonymes ou recueillis par le client. Des informations sur la façon de recevoir gratuitement des options de traitement de l’ITSS dans vos cliniques. En outre\, nous discuterons des programmes de santé sexuelle de l’OPH disponibles – test STBBI\, contraception à faible coût ou sans coût et préservatifs gratuits – avec des services fournis dans un cadre fixe\, des services mobiles de proximité\, des envois postaux et plus encore.  \nACCREDITATION\nCe programme d’apprentissage en groupe d’un crédit par heure répond aux critères de certification du Collège des médecins de famille du Canada et a été certifié par le Bureau du développement professionnel continu de l’Université d’Ottawa pour un maximum de 3\,0 crédits Mainpro+ (1 crédit par webinaire).
URL:https://cpduottawa.ca/fr/event/webinaire-de-loph-programmes-et-services-regionaux-de-reduction-des-risques-y-compris-le-drug-checking-et-les-services-mobiles/
LOCATION:Virtual Program
CATEGORIES:Résidents,Soins infirmiers,Soins primaires,Spécialistes
ATTACH;FMTTYPE=image/png:https://cpduottawa.ca/wp-content/uploads/2024/07/ECT-Banner.png
END:VEVENT
END:VCALENDAR