BEGIN:VCALENDAR
VERSION:2.0
PRODID:-//University of Ottawa - Office of Continuing Professional Development - ECPv6.15.20//NONSGML v1.0//EN
CALSCALE:GREGORIAN
METHOD:PUBLISH
X-ORIGINAL-URL:https://cpduottawa.ca
X-WR-CALDESC:Events for University of Ottawa - Office of Continuing Professional Development
REFRESH-INTERVAL;VALUE=DURATION:PT1H
X-Robots-Tag:noindex
X-PUBLISHED-TTL:PT1H
BEGIN:VTIMEZONE
TZID:UTC
BEGIN:STANDARD
TZOFFSETFROM:+0000
TZOFFSETTO:+0000
TZNAME:UTC
DTSTART:20240101T000000
END:STANDARD
END:VTIMEZONE
BEGIN:VEVENT
DTSTART;TZID=UTC:20250515T090000
DTEND;TZID=UTC:20250515T160000
DTSTAMP:20260420T070907
CREATED:20241115T130655Z
LAST-MODIFIED:20241115T131210Z
UID:10000132-1747299600-1747324800@cpduottawa.ca
SUMMARY:Foundations of Leadership for Clinicians
DESCRIPTION:PHASE 1 Foundations of Leadership for Clinicians – Winter/Spring 2025\n\nTarget Audience: All faculty members from the Faculty of Medicine\nSpeaker: Mr. Ayoub Chobah\nLocation:  in person at the FoM – Roger Guindon Hall – Room TBD\nPrice: $400 Early Bird deadline ends December 19\, 2024 (course value is $3000 – 80% discount)\n$600 December 20\, 2024 to January 16\, 2025 – included all materials and lunch \n(formerly known as Essentials for Academic Leadership)\n*This course is offered in English only \nThursday January 23\, 2025 from 8:30AM to 3:30PM\nThursday March 27\, 2025 from 8:30AM to 3:30PM\nThursday April 24\, 2025 from 8:30AM to 3:30PM\nThursday May 15\, 2025 from 8:30AM to 3:30PM\nThursday May 29\, 2025 from 8:30AM to 3:30PM \nCancellation Policy: Refunds less $75 administrative charge will be issued for cancellations received in writing by January 16\, 2025. No refunds will be issued for cancellations received after that date. \nCourse Description:\nFoundations of Leadership is a series of 5 workshops aimed at providing clinicians and non-clinicians with tools to successfully lead and manage teams. \nParticipants will develop an understanding and skills of how to: \n\nLead a process rather than manage it\nManage various types of team members effectively and deal with conflict\nGet the most out of team members and keep them motivated\nIntroduce and manage change\n\nParticipants will also be apprised of legal implications and emerging trends as it relates to managing team members. Completion of the program will be acknowledged by a certificate in leadership from the Office of Continuing Professional Development. \nQuestions? Please contact cpd@uottawa.ca.
URL:https://cpduottawa.ca/event/foundations-of-leadership-for-clinicians/2025-05-15/
LOCATION:University of Ottawa Roger Guindon Hall\, 451 Smyth Rd\, Ottawa\, Ontario\, K1N 6N5\, Canada
CATEGORIES:Faculty Development,Leadership,Practice Improvement,Primary Care,Professional Development,Psychiatry,Specialists
ATTACH;FMTTYPE=image/png:https://cpduottawa.ca/wp-content/uploads/2024/11/ECT-Banner-3.png
END:VEVENT
BEGIN:VEVENT
DTSTART;TZID=UTC:20250529T090000
DTEND;TZID=UTC:20250529T160000
DTSTAMP:20260420T070907
CREATED:20241115T130655Z
LAST-MODIFIED:20241115T131210Z
UID:10000133-1748509200-1748534400@cpduottawa.ca
SUMMARY:Foundations of Leadership for Clinicians
DESCRIPTION:PHASE 1 Foundations of Leadership for Clinicians – Winter/Spring 2025\n\nTarget Audience: All faculty members from the Faculty of Medicine\nSpeaker: Mr. Ayoub Chobah\nLocation:  in person at the FoM – Roger Guindon Hall – Room TBD\nPrice: $400 Early Bird deadline ends December 19\, 2024 (course value is $3000 – 80% discount)\n$600 December 20\, 2024 to January 16\, 2025 – included all materials and lunch \n(formerly known as Essentials for Academic Leadership)\n*This course is offered in English only \nThursday January 23\, 2025 from 8:30AM to 3:30PM\nThursday March 27\, 2025 from 8:30AM to 3:30PM\nThursday April 24\, 2025 from 8:30AM to 3:30PM\nThursday May 15\, 2025 from 8:30AM to 3:30PM\nThursday May 29\, 2025 from 8:30AM to 3:30PM \nCancellation Policy: Refunds less $75 administrative charge will be issued for cancellations received in writing by January 16\, 2025. No refunds will be issued for cancellations received after that date. \nCourse Description:\nFoundations of Leadership is a series of 5 workshops aimed at providing clinicians and non-clinicians with tools to successfully lead and manage teams. \nParticipants will develop an understanding and skills of how to: \n\nLead a process rather than manage it\nManage various types of team members effectively and deal with conflict\nGet the most out of team members and keep them motivated\nIntroduce and manage change\n\nParticipants will also be apprised of legal implications and emerging trends as it relates to managing team members. Completion of the program will be acknowledged by a certificate in leadership from the Office of Continuing Professional Development. \nQuestions? Please contact cpd@uottawa.ca.
URL:https://cpduottawa.ca/event/foundations-of-leadership-for-clinicians/2025-05-29/
LOCATION:University of Ottawa Roger Guindon Hall\, 451 Smyth Rd\, Ottawa\, Ontario\, K1N 6N5\, Canada
CATEGORIES:Faculty Development,Leadership,Practice Improvement,Primary Care,Professional Development,Psychiatry,Specialists
ATTACH;FMTTYPE=image/png:https://cpduottawa.ca/wp-content/uploads/2024/11/ECT-Banner-3.png
END:VEVENT
BEGIN:VEVENT
DTSTART;VALUE=DATE:20251017
DTEND;VALUE=DATE:20251018
DTSTAMP:20260420T070907
CREATED:20250309T233828Z
LAST-MODIFIED:20250618T182103Z
UID:10000180-1760659200-1760745599@cpduottawa.ca
SUMMARY:2025 Ottawa Curriculum for Perinatal Mental Health
DESCRIPTION:2025 Ottawa Curriculum for Perinatal Mental Health\nFriday\, October 17\, 2025\nThe Ottawa Hospital\, Civic Campus\, Amphitheatre\n1053 Carling Ave\, Ottawa\, Ontario\, K1Y4E9\nRegister now!\nView Course Program and Learn More \nEarly bird registration ends September 19\, 2025 – register early and save!\n\n\nThe University of Ottawa\, Office of Continuing Professional Development (CPD) and the Department of Psychiatry are proud to present this 1/2-day hybrid course at The Ottawa Civic Hospital\, Amphitheatre. \n\nThe focus of this year’s course is on Perinatal Mood and Anxiety Disorders\, with updates and clinical applications of the new Canadian Perinatal Mental Health guidelines. In live seminars\, you will hear directly from perinatal mental health experts on how to identify\, support\, and treat pregnant and lactating individuals in today’s complex healthcare environment. The morning closes with a comprehensive panel of community resource providers to showcase their integral roles in the stepped care model. There will also be the opportunity to ask questions directly to perinatal psychiatrists.\nThis course will be of interest to ALL perinatal care providers\, including obstetricians\, family doctors\, psychiatrists\, midwives\, nurses\, doulas\, social workers\, occupational therapists\, psychotherapists\, lactation consultants\, and learners.\n\nQuestions? Please contact cpd@uottawa.ca.\n*This symposium is available in English only*
URL:https://cpduottawa.ca/event/2025-ottawa-curriculum-for-perinatal-mental-health/
LOCATION:The Ottawa Hospital\, Civic Campus\, 1053 Carling Ave\, Ottawa\, Ontario\, K1Y4E9\, Canada
CATEGORIES:Allied Healthcare Professionals,Events,Midwifery,Nurse Practitioners,Nursing,Practice Improvement,Primary Care,Psychiatry,Residents,Social Workers,Specialists
ATTACH;FMTTYPE=image/png:https://cpduottawa.ca/wp-content/uploads/2025/03/PMHP2024-Save-the-Date-1048-x-250-px.png
END:VEVENT
BEGIN:VEVENT
DTSTART;VALUE=DATE:20251124
DTEND;VALUE=DATE:20251129
DTSTAMP:20260420T070907
CREATED:20250309T234704Z
LAST-MODIFIED:20250520T185335Z
UID:10000182-1763942400-1764374399@cpduottawa.ca
SUMMARY:2025 Fall EK Koranyi Review Course in Psychiatry
DESCRIPTION:2025 Fall EK Koranyi Review Course in Psychiatry\nNEW DATES! November 24 – 28\, 2025\nVirtual Course\nRegister now! Early bird registration ends October 26\, 2025 – register early and save!\nView course program or learn more \nThe E.K. Koranyi Review Course in Psychiatry is a yearly\, intensive review of psychiatry\, meant to help Canadian Psychiatry Residents prepare for their Royal College Exams\, as well as provide an update for practicing psychiatrists\, featuring 23 lectures over 5 days. \nUnable to attend the full conference live? All sessions will be recorded and available post-course for viewing\, along with all of the presenter’s materials until May 31st\, 2026. \nOverall Learning Objectives \n\nList areas of psychiatry for which their knowledge is current\nList areas of psychiatry that contain new knowledge for the participant\nDescribe how they plan to incorporate this new knowledge into their practice\n\nAccreditation\nThis event is an Accredited Group Learning Activity (Section 1) as defined by the Maintenance of Certification Program of the Royal College of Physicians and Surgeons of Canada\, and approved by the University of Ottawa’s Office of Continuing Professional Development. You may claim a maximum of 38.75 hours (credits are automatically calculated). Credits are only applicable for sessions that were attended live. \n*This symposium is available in English only*
URL:https://cpduottawa.ca/event/1035/
LOCATION:Ontario
CATEGORIES:Events,Fellows,Primary Care,Psychiatry,Residents,Specialists
ATTACH;FMTTYPE=image/png:https://cpduottawa.ca/wp-content/uploads/2025/03/Save-the-date-1048-x-250-px.png
END:VEVENT
BEGIN:VEVENT
DTSTART;TZID=UTC:20260208T080000
DTEND;TZID=UTC:20260208T170000
DTSTAMP:20260420T070907
CREATED:20250903T182027Z
LAST-MODIFIED:20250909T184756Z
UID:10000228-1770537600-1770570000@cpduottawa.ca
SUMMARY:2026 University of Ottawa Simulation-Based ECT Course for Practitioners
DESCRIPTION:2026 University of Ottawa Simulation-Based ECT Course for Practitioners\n*This course is offered in English only \nElevate Your ECT Skills with Cutting-Edge Training! \nFebruary 8\, 2026 \nIn person course \nUniversity of Ottawa\, Skills and Simulation Centre \n725 Parkdale Ave\, 1st Floor\, Ottawa\, ON K1Y4E9 \nLearn More \nRegister Now! \nExperience a simulation-based ECT course\, scientifically proven to boost your skills\, knowledge\, and confidence more effectively than traditional methods. Join us for dynamic\, hands-on sessions led by top experts in the field. \nFounded by Dr. Kiran Rabheru\, this is the first simulation-based ECT course proven to increase skills\, knowledge and confidence for ECT practitioners in a randomized-controlled trial compared to traditional training methods. (J ECT 2013\, 29(4):291-6) The Ottawa Hospital and the Royal Ottawa Mental Health Centre deliver world-class care to their patients every day in affiliation with the University of Ottawa. Together\, they work collaboratively to ensure a high standard of patient safety by training health-care providers such as physicians and nurses through education and research. \n  \n  \nQuestions?\nPlease contact Kaitlin Moberg kmoberg@uottawa.ca\, Lead coordinator\, ECT Course 2026 \n  \n 
URL:https://cpduottawa.ca/event/2026-university-of-ottawa-simulation-based-ect-course-for-practitioners/
LOCATION:University of Ottawa Skills & Simulation Centre
CATEGORIES:Practice Improvement,Psychiatry,Researchers,Specialists
ATTACH;FMTTYPE=image/png:https://cpduottawa.ca/wp-content/uploads/2025/09/ECT-generic-banner.png
END:VEVENT
BEGIN:VEVENT
DTSTART;VALUE=DATE:20260511
DTEND;VALUE=DATE:20260513
DTSTAMP:20260420T070907
CREATED:20260403T025055Z
LAST-MODIFIED:20260403T121229Z
UID:10000256-1778457600-1778630399@cpduottawa.ca
SUMMARY:2026 Precision Child and Youth Mental Health Conference
DESCRIPTION:2026 Precision Child and Youth Mental Health Conference\nMay 11 – 12\, 2026\nNational Arts Centre\, Ottawa\, ON\nLearn More\nRegister Now\nView Program\n13 RCPSC Section 1 Hours \nWith unprecedented potential to transform child and youth mental health\, PCYMH is rapidly moving us towards precision care guided by data about each patient’s unique biological\, environmental\, and lifestyle characteristics. \nJoin us for a stimulating two days of discovery and discussion with colleagues in beautiful Ottawa\, Canada’s capital. \nThis program is offered in English only \nOverall Learning Objectives\nAt the end of this conference\, participants will be able to: \nDefine at least two components of Precision Child and Youth Mental Health (PCYMH).\nDescribe one major finding each in PCYMH research involving genetics\, biomarkers\, artificial intelligence (AI) data science\, or preventive/treatment interventions.\nList two concerns about the use of PCYMH in clinical care.\nList two opportunities for better mental health care using PCYMH approaches. \nAccreditation\nThis event is an Accredited Group Learning Activity (Section 1) as defined by the Maintenance of Certification Program of the Royal College of Physicians and Surgeons of Canada and approved by the University of Ottawa’s Office of Continuing Professional Development. You may claim a maximum of 13.00 hours (credits are automatically calculated). \nQuestions?\nPlease contact cpd@uottawa.ca
URL:https://cpduottawa.ca/event/2026-precision-child-and-youth-mental-health-conference/
LOCATION:National Arts Centre\, 1 Elgin Street\, Ottawa\, ontario\, K1P 5W1\, Canada
CATEGORIES:Academia,Fellows,Primary Care,Psychiatry,Researchers,Residents,Social Workers,Specialists
ATTACH;FMTTYPE=image/png:https://cpduottawa.ca/wp-content/uploads/2026/04/26c6ba3fdf914a33bde34ff29ddd3814.png
END:VEVENT
BEGIN:VEVENT
DTSTART;TZID=UTC:20260606T080000
DTEND;TZID=UTC:20260609T170000
DTSTAMP:20260420T070907
CREATED:20250309T235228Z
LAST-MODIFIED:20250503T113217Z
UID:10000184-1780732800-1781024400@cpduottawa.ca
SUMMARY:45th Annual Canadian Academy of Child and Adolescent Psychiatry Conference
DESCRIPTION:Save the Date!\n45th Annual Canadian Academy of Child and Adolescent Psychiatry Conference\nJune 6th – 9th\, 2026\nDelta by Marriott St. John’s Hotel and Conference Centre\, St. John’s\, Newfoundland \nThe Canadian Academy of Child and Adolescent Psychiatry is a national organization of child and adolescent psychiatrists and other professionals in Canada\, committed to advancing the mental health of children\, youth and families through promotion of excellence in care\, advocacy\, education\, research and collaboration with other professionals. Join us in June 2026 for our annual conference! \nMore information will be available soon! To be notified when registration opens\, please contact cpd@uottawa.ca.
URL:https://cpduottawa.ca/event/45th-annual-canadian-academy-of-child-and-adolescent-psychiatry-conference/
LOCATION:Ontario
CATEGORIES:Allied Healthcare Professionals,Events,Fellows,General Public,Nurse Practitioners,Nursing,Practice Improvement,Primary Care,Professional Development,Psychiatry,Researchers,Residents,Social Workers,Specialists
ATTACH;FMTTYPE=image/png:https://cpduottawa.ca/wp-content/uploads/2025/03/Save-the-date-1048-x-250-px-1.png
END:VEVENT
END:VCALENDAR