BEGIN:VCALENDAR
VERSION:2.0
PRODID:-//University of Ottawa - Office of Continuing Professional Development - ECPv6.15.20//NONSGML v1.0//EN
CALSCALE:GREGORIAN
METHOD:PUBLISH
X-ORIGINAL-URL:https://cpduottawa.ca
X-WR-CALDESC:Events for University of Ottawa - Office of Continuing Professional Development
REFRESH-INTERVAL;VALUE=DURATION:PT1H
X-Robots-Tag:noindex
X-PUBLISHED-TTL:PT1H
BEGIN:VTIMEZONE
TZID:UTC
BEGIN:STANDARD
TZOFFSETFROM:+0000
TZOFFSETTO:+0000
TZNAME:UTC
DTSTART:20240101T000000
END:STANDARD
END:VTIMEZONE
BEGIN:VEVENT
DTSTART;TZID=UTC:20250209T073000
DTEND;TZID=UTC:20250209T173000
DTSTAMP:20260419T220347
CREATED:20240619T174024Z
LAST-MODIFIED:20240619T180303Z
UID:10000068-1739086200-1739122200@cpduottawa.ca
SUMMARY:2025 University of Ottawa Simulation-Based ECT Course for Practitioners
DESCRIPTION:Registration Now Open! Elevate Your ECT Skills with Cutting-Edge Training! \nExperience a simulation-based ECT course\, scientifically proven to boost your skills\, knowledge\, and confidence more effectively than traditional methods. Join us for dynamic\, hands-on sessions led by top experts in the field. \nFounded by Dr. Kiran Rabheru\, this is the first simulation-based ECT course proven to increase skills\, knowledge and confidence for ECT practitioners in a randomized-controlled trial compared to traditional training methods. (J ECT 2013\, 29(4):291-6) The Ottawa Hospital and the Royal Ottawa Mental Health Centre deliver world-class care to their patients every day in affiliation with the University of Ottawa. Together\, they work collaboratively to ensure a high standard of patient safety by training health-care providers such as physicians and nurses through education and research \nCourse Website\nFebruary 9\, 2025\nIn person course\nUniversity of Ottawa\, Skills and Simulation Centre (725 Parkdale Ave\, 1st Floor\, Ottawa\, ON K1Y4E9)\nRegister now!  \nQuestions?\nPlease contact Kaitlin Moberg kmoberg@uottawa.ca\, Lead coordinator\, ECT Course 2025
URL:https://cpduottawa.ca/event/2025-university-of-ottawa-simulation-based-ect-course-for-practitioners/
LOCATION:University of Ottawa Skills & Simulation Centre
CATEGORIES:Allied Healthcare Professionals,Nursing,Psychiatry,Specialists
ATTACH;FMTTYPE=image/png:https://cpduottawa.ca/wp-content/uploads/2024/06/ECT-Banner.png
END:VEVENT
END:VCALENDAR