BEGIN:VCALENDAR
VERSION:2.0
PRODID:-//University of Ottawa - Office of Continuing Professional Development - ECPv6.15.20//NONSGML v1.0//EN
CALSCALE:GREGORIAN
METHOD:PUBLISH
X-ORIGINAL-URL:https://cpduottawa.ca
X-WR-CALDESC:Events for University of Ottawa - Office of Continuing Professional Development
REFRESH-INTERVAL;VALUE=DURATION:PT1H
X-Robots-Tag:noindex
X-PUBLISHED-TTL:PT1H
BEGIN:VTIMEZONE
TZID:UTC
BEGIN:STANDARD
TZOFFSETFROM:+0000
TZOFFSETTO:+0000
TZNAME:UTC
DTSTART:20230101T000000
END:STANDARD
END:VTIMEZONE
BEGIN:VEVENT
DTSTART;VALUE=DATE:20241128
DTEND;VALUE=DATE:20241130
DTSTAMP:20260420T024007
CREATED:20240723T161229Z
LAST-MODIFIED:20240723T161505Z
UID:10000095-1732752000-1732924799@cpduottawa.ca
SUMMARY:Canadian Health Workforce Conference (CHWC) 2024
DESCRIPTION:November 28-29\, 2024\nRoom 4007\, 120 University Private\, University of Ottawa\, Faculty of Social Science\, Ottawa Ontario Canada K1N 6N5\nHybrid Conference – Login details for virtual attendees will be provided the week of the conference\nRegister now! \nJoin us for the 10th anniversary of the Canadian Health Workforce Conference (CHWC)\, a conference that brings together policy makers\, academics\, researchers\, practitioners\, patient advisors and students from across the country with responsibility for and interest in health workforce issues. The goal of the conference is to provide an opportunity to engage in knowledge exchange and meaningful discussion on a range of health workforce issues and showcase the latest research and cutting-edge technology and innovation for health workforce policy\, planning and management across the country. \nCALL FOR ABSTRACTS\nWe are currently accepting abstracts for consideration! If you would like to submit an abstract\, please fill out this form before September 3rd\, 2024. Upon reviewing all submissions\, we will provide confirmation of acceptance by September 30th. The registration deadline for presenters will be October 4th. \nQuestions? Please contact Laura Darbon\, Lead Coordinator of the Canadian Health Workforce Conference (CHWC) 2024.
URL:https://cpduottawa.ca/event/canadian-health-workforce-conference-chwc-2024/
LOCATION:Faculty of Social Science\, 120 University Private\, Room 4007\, Ottawa\, Ontario\, K1N 6N5\, Canada
CATEGORIES:Academia,Allied Healthcare Professionals,Dentistry,Faculty Development,Fellows,Leadership,Midwifery,Nursing,Primary Care,Psychiatry,Residents,Specialists
ATTACH;FMTTYPE=image/png:https://cpduottawa.ca/wp-content/uploads/2024/07/ECT-Banner-8.png
ORGANIZER;CN="Canadian Health Workforce Network":MAILTO:info@hhr-rhs.ca
END:VEVENT
END:VCALENDAR