BEGIN:VCALENDAR
VERSION:2.0
PRODID:-//University of Ottawa - Office of Continuing Professional Development - ECPv6.15.20//NONSGML v1.0//EN
CALSCALE:GREGORIAN
METHOD:PUBLISH
X-WR-CALNAME:University of Ottawa - Office of Continuing Professional Development
X-ORIGINAL-URL:https://cpduottawa.ca
X-WR-CALDESC:Events for University of Ottawa - Office of Continuing Professional Development
REFRESH-INTERVAL;VALUE=DURATION:PT1H
X-Robots-Tag:noindex
X-PUBLISHED-TTL:PT1H
BEGIN:VTIMEZONE
TZID:UTC
BEGIN:STANDARD
TZOFFSETFROM:+0000
TZOFFSETTO:+0000
TZNAME:UTC
DTSTART:20240101T000000
END:STANDARD
END:VTIMEZONE
BEGIN:VEVENT
DTSTART;VALUE=DATE:20250403
DTEND;VALUE=DATE:20250418
DTSTAMP:20260419T171714
CREATED:20241115T143348Z
LAST-MODIFIED:20241115T143815Z
UID:10000153-1743638400-1744934399@cpduottawa.ca
SUMMARY:Crucial Conversations for Accountability – 2 day course
DESCRIPTION:Crucial Conversations for Accountability – 2 day course\nThursdays April 3 and 17\, 2025 | 8:30 a.m. to 4:00 p.m.\nDeadline to register is March 31\, 2025\nTarget Audience: All faculty members from the Faculty of Medicine\nSpeaker: Ms. Sara Munroe\nLocation: in person at the FoM\, Roger Guindon Hall\, Room TBD\nRegister now!\nLearn more \nCes cours et le formulaire d’inscription sont en Anglais seulement. \nPrice (Fees include all materials and lunch) \n\nResidents: $400 per course or $800 for all three courses ($6\,700 savings!)\nRegistrants Affiliated with uOttawa\, Faculty of Medicine: $500 per course or $1\,000 for all three courses ($6\,500 in savings!)\nRegistrants Not Affiliated with uOttawa\, Faculty of Medicine: $2\,500 per course or $5\,000 for all three courses ($2\,500 in savings!)\n\nCancellation Policy: Refunds less $75 administrative charge will be issued for cancellations received in writing by March 31\, 2025. No refunds will be issued for cancellations received after that date.\n \nCourse Description:\nMANAGING PERFORMANCE IS MORE THAN A PROCESS—IT’S ABOUT PEOPLE – Sure\, there are fancy software and tools to make performance management seamless and easy. But any manager who’s struggled to close a significant performance gap or anyone who has ever walked out of an annual review feeling like they’ve just been processed rather than prioritized knows there’s nothing easy about it.  Deflated and disenchanted people don’t improve\, and neither do results.  In reality\, performance management is about addressing your people’s behavior routinely and consistently. It’s about candidly coaching through challenges and holding people accountable for lapses in behavior. It’s about identifying goals\, fast-tracking careers\, and in the process\, improving your bottom line. These are communication skills—the difficult kind that may not come naturally\, but when learned\, mean the difference between managing people and managing process.  The good news is these accountability skills are replicable and learnable. We’re all just a few crucial skills away from learning how to manage people and performance daily and directly. \nQuestions? Please contact cpd@uottawa.ca.
URL:https://cpduottawa.ca/event/crucial-conversations-for-accountability-2-day-course/2025-04-03/1/
LOCATION:University of Ottawa Roger Guindon Hall\, 451 Smyth Rd\, Ottawa\, Ontario\, K1N 6N5\, Canada
CATEGORIES:Academia,Allied Healthcare Professionals,Basic Science,Dentistry,Events,Faculty Development,Fellows,General Public,Leadership,Midwifery,Nursing,Practice Improvement,Primary Care,Professional Development,Psychiatry,Researchers,Residents,Social Workers,Specialists
ATTACH;FMTTYPE=image/png:https://cpduottawa.ca/wp-content/uploads/2024/07/ECT-Banner-2.png
END:VEVENT
BEGIN:VEVENT
DTSTART;VALUE=DATE:20250403
DTEND;VALUE=DATE:20250404
DTSTAMP:20260419T171714
CREATED:20241115T143348Z
LAST-MODIFIED:20241115T143815Z
UID:10000154-1743669000-1743696000@cpduottawa.ca
SUMMARY:Crucial Conversations for Accountability – 2 day course
DESCRIPTION:Crucial Conversations for Accountability – 2 day course\nThursdays April 3 and 17\, 2025 | 8:30 a.m. to 4:00 p.m.\nDeadline to register is March 31\, 2025\nTarget Audience: All faculty members from the Faculty of Medicine\nSpeaker: Ms. Sara Munroe\nLocation: in person at the FoM\, Roger Guindon Hall\, Room TBD\nRegister now!\nLearn more \nCes cours et le formulaire d’inscription sont en Anglais seulement. \nPrice (Fees include all materials and lunch) \n\nResidents: $400 per course or $800 for all three courses ($6\,700 savings!)\nRegistrants Affiliated with uOttawa\, Faculty of Medicine: $500 per course or $1\,000 for all three courses ($6\,500 in savings!)\nRegistrants Not Affiliated with uOttawa\, Faculty of Medicine: $2\,500 per course or $5\,000 for all three courses ($2\,500 in savings!)\n\nCancellation Policy: Refunds less $75 administrative charge will be issued for cancellations received in writing by March 31\, 2025. No refunds will be issued for cancellations received after that date.\n \nCourse Description:\nMANAGING PERFORMANCE IS MORE THAN A PROCESS—IT’S ABOUT PEOPLE – Sure\, there are fancy software and tools to make performance management seamless and easy. But any manager who’s struggled to close a significant performance gap or anyone who has ever walked out of an annual review feeling like they’ve just been processed rather than prioritized knows there’s nothing easy about it.  Deflated and disenchanted people don’t improve\, and neither do results.  In reality\, performance management is about addressing your people’s behavior routinely and consistently. It’s about candidly coaching through challenges and holding people accountable for lapses in behavior. It’s about identifying goals\, fast-tracking careers\, and in the process\, improving your bottom line. These are communication skills—the difficult kind that may not come naturally\, but when learned\, mean the difference between managing people and managing process.  The good news is these accountability skills are replicable and learnable. We’re all just a few crucial skills away from learning how to manage people and performance daily and directly. \nQuestions? Please contact cpd@uottawa.ca.
URL:https://cpduottawa.ca/event/crucial-conversations-for-accountability-2-day-course/2025-04-03/2/
LOCATION:University of Ottawa Roger Guindon Hall\, 451 Smyth Rd\, Ottawa\, Ontario\, K1N 6N5\, Canada
CATEGORIES:Academia,Allied Healthcare Professionals,Basic Science,Dentistry,Events,Faculty Development,Fellows,General Public,Leadership,Midwifery,Nursing,Practice Improvement,Primary Care,Professional Development,Psychiatry,Researchers,Residents,Social Workers,Specialists
ATTACH;FMTTYPE=image/png:https://cpduottawa.ca/wp-content/uploads/2024/07/ECT-Banner-2.png
END:VEVENT
BEGIN:VEVENT
DTSTART;VALUE=DATE:20250417
DTEND;VALUE=DATE:20250418
DTSTAMP:20260419T171714
CREATED:20241115T143348Z
LAST-MODIFIED:20241115T143815Z
UID:10000155-1744878600-1744905600@cpduottawa.ca
SUMMARY:Crucial Conversations for Accountability – 2 day course
DESCRIPTION:Crucial Conversations for Accountability – 2 day course\nThursdays April 3 and 17\, 2025 | 8:30 a.m. to 4:00 p.m.\nDeadline to register is March 31\, 2025\nTarget Audience: All faculty members from the Faculty of Medicine\nSpeaker: Ms. Sara Munroe\nLocation: in person at the FoM\, Roger Guindon Hall\, Room TBD\nRegister now!\nLearn more \nCes cours et le formulaire d’inscription sont en Anglais seulement. \nPrice (Fees include all materials and lunch) \n\nResidents: $400 per course or $800 for all three courses ($6\,700 savings!)\nRegistrants Affiliated with uOttawa\, Faculty of Medicine: $500 per course or $1\,000 for all three courses ($6\,500 in savings!)\nRegistrants Not Affiliated with uOttawa\, Faculty of Medicine: $2\,500 per course or $5\,000 for all three courses ($2\,500 in savings!)\n\nCancellation Policy: Refunds less $75 administrative charge will be issued for cancellations received in writing by March 31\, 2025. No refunds will be issued for cancellations received after that date.\n \nCourse Description:\nMANAGING PERFORMANCE IS MORE THAN A PROCESS—IT’S ABOUT PEOPLE – Sure\, there are fancy software and tools to make performance management seamless and easy. But any manager who’s struggled to close a significant performance gap or anyone who has ever walked out of an annual review feeling like they’ve just been processed rather than prioritized knows there’s nothing easy about it.  Deflated and disenchanted people don’t improve\, and neither do results.  In reality\, performance management is about addressing your people’s behavior routinely and consistently. It’s about candidly coaching through challenges and holding people accountable for lapses in behavior. It’s about identifying goals\, fast-tracking careers\, and in the process\, improving your bottom line. These are communication skills—the difficult kind that may not come naturally\, but when learned\, mean the difference between managing people and managing process.  The good news is these accountability skills are replicable and learnable. We’re all just a few crucial skills away from learning how to manage people and performance daily and directly. \nQuestions? Please contact cpd@uottawa.ca.
URL:https://cpduottawa.ca/event/crucial-conversations-for-accountability-2-day-course/2025-04-17/
LOCATION:University of Ottawa Roger Guindon Hall\, 451 Smyth Rd\, Ottawa\, Ontario\, K1N 6N5\, Canada
CATEGORIES:Academia,Allied Healthcare Professionals,Basic Science,Dentistry,Events,Faculty Development,Fellows,General Public,Leadership,Midwifery,Nursing,Practice Improvement,Primary Care,Professional Development,Psychiatry,Researchers,Residents,Social Workers,Specialists
ATTACH;FMTTYPE=image/png:https://cpduottawa.ca/wp-content/uploads/2024/07/ECT-Banner-2.png
END:VEVENT
BEGIN:VEVENT
DTSTART;TZID=UTC:20250424T090000
DTEND;TZID=UTC:20250424T160000
DTSTAMP:20260419T171714
CREATED:20241115T130655Z
LAST-MODIFIED:20241115T131210Z
UID:10000131-1745485200-1745510400@cpduottawa.ca
SUMMARY:Foundations of Leadership for Clinicians
DESCRIPTION:PHASE 1 Foundations of Leadership for Clinicians – Winter/Spring 2025\n\nTarget Audience: All faculty members from the Faculty of Medicine\nSpeaker: Mr. Ayoub Chobah\nLocation:  in person at the FoM – Roger Guindon Hall – Room TBD\nPrice: $400 Early Bird deadline ends December 19\, 2024 (course value is $3000 – 80% discount)\n$600 December 20\, 2024 to January 16\, 2025 – included all materials and lunch \n(formerly known as Essentials for Academic Leadership)\n*This course is offered in English only \nThursday January 23\, 2025 from 8:30AM to 3:30PM\nThursday March 27\, 2025 from 8:30AM to 3:30PM\nThursday April 24\, 2025 from 8:30AM to 3:30PM\nThursday May 15\, 2025 from 8:30AM to 3:30PM\nThursday May 29\, 2025 from 8:30AM to 3:30PM \nCancellation Policy: Refunds less $75 administrative charge will be issued for cancellations received in writing by January 16\, 2025. No refunds will be issued for cancellations received after that date. \nCourse Description:\nFoundations of Leadership is a series of 5 workshops aimed at providing clinicians and non-clinicians with tools to successfully lead and manage teams. \nParticipants will develop an understanding and skills of how to: \n\nLead a process rather than manage it\nManage various types of team members effectively and deal with conflict\nGet the most out of team members and keep them motivated\nIntroduce and manage change\n\nParticipants will also be apprised of legal implications and emerging trends as it relates to managing team members. Completion of the program will be acknowledged by a certificate in leadership from the Office of Continuing Professional Development. \nQuestions? Please contact cpd@uottawa.ca.
URL:https://cpduottawa.ca/event/foundations-of-leadership-for-clinicians/2025-04-24/
LOCATION:University of Ottawa Roger Guindon Hall\, 451 Smyth Rd\, Ottawa\, Ontario\, K1N 6N5\, Canada
CATEGORIES:Faculty Development,Leadership,Practice Improvement,Primary Care,Professional Development,Psychiatry,Specialists
ATTACH;FMTTYPE=image/png:https://cpduottawa.ca/wp-content/uploads/2024/11/ECT-Banner-3.png
END:VEVENT
END:VCALENDAR