BEGIN:VCALENDAR
VERSION:2.0
PRODID:-//University of Ottawa - Office of Continuing Professional Development - ECPv6.15.20//NONSGML v1.0//EN
CALSCALE:GREGORIAN
METHOD:PUBLISH
X-ORIGINAL-URL:https://cpduottawa.ca
X-WR-CALDESC:Events for University of Ottawa - Office of Continuing Professional Development
REFRESH-INTERVAL;VALUE=DURATION:PT1H
X-Robots-Tag:noindex
X-PUBLISHED-TTL:PT1H
BEGIN:VTIMEZONE
TZID:UTC
BEGIN:STANDARD
TZOFFSETFROM:+0000
TZOFFSETTO:+0000
TZNAME:UTC
DTSTART:20250101T000000
END:STANDARD
END:VTIMEZONE
BEGIN:VEVENT
DTSTART;TZID=UTC:20260220T080000
DTEND;TZID=UTC:20260222T170000
DTSTAMP:20260420T234634
CREATED:20250309T231549Z
LAST-MODIFIED:20260121T131256Z
UID:10000176-1771574400-1771779600@cpduottawa.ca
SUMMARY:Lower and Upper Canada Anesthesia Symposium (LUCAS)
DESCRIPTION:Lower and Upper Canada Anesthesia Symposium (LUCAS)\nFebruary 21-22\, 2026\nPre-Conference Workshops on February 20\, 2026\n*This symposium is available in English only* \nPlease click here to view the course program & register today! \nEvent Location : Hôtel Bonaventure Montréal\n900 Rue De la Gauchetière O\,\nMontréal\, QC H5A 1E4 \nThe Lower and Upper Canada Anesthesia Symposium will be hosted at the Hotel Bonaventure Montréal. A block of rooms has been set aside with rates starting at $239/night (plus applicable taxes). \nRooms must be booked prior to January 19\, 2026 to ensure that you receive the quoted rate. \nBook now! \nThis one-credit-per-hour Group Learning program meets the certification criteria of the College of Family Physicians of Canada and has been certified by the University of Ottawa’s Office of Continuing Professional Development for up to 11.00 Mainpro+ credits. \nThis event is an Accredited Group Learning Activity (Section 1) as defined by the Maintenance of Certification Program of the Royal College of Physicians and Surgeons of Canada and approved by the University of Ottawa’s Office of Continuing Professional Development. You may claim a maximum of 11.00 hours per session. (credits are automatically calculated). \nThis event is an Accredited Simulation Activity (Section 3) as defined by the Maintenance of Certification Program of the Royal College of Physicians and Surgeons of Canada and approved by the University of Ottawa’s Office of Continuing Professional Development. You may claim a maximum of 7.00 hours (credits are automatically calculated). \nQuestions? Please contact cpd@uottawa.ca \nBureau du développement professionnel continu\nOffice of Continuing Professional Development\n\nFaculté de médecine | Faculty of Medicine\n\nUniversité d’Ottawa | University of Ottawa\n\nÉdifice Loeb | Loeb Building\n725 Parkdale Ave (WM158) Ottawa\, ON K1H 8M5 Canada\n\nuOttawa.ca/faculte-medecine | uOttawa.ca/faculty-medicine\n 
URL:https://cpduottawa.ca/event/lower-and-upper-canada-anesthesia-symposium-lucas/
LOCATION:Hotel Bonaventure Montréal\, 150 Elgin Street\, Ottawa\, Ontario\, K2P 1L4\, Canada
CATEGORIES:Allied Healthcare Professionals,Events,Fellows,Specialists
ATTACH;FMTTYPE=image/png:https://cpduottawa.ca/wp-content/uploads/2025/03/LUCAS2026-Banner.png
END:VEVENT
BEGIN:VEVENT
DTSTART;TZID=UTC:20260413T080000
DTEND;TZID=UTC:20260413T170000
DTSTAMP:20260420T234634
CREATED:20251105T205109Z
LAST-MODIFIED:20260106T131302Z
UID:10000243-1776067200-1776099600@cpduottawa.ca
SUMMARY:Canadian Dizziness Symposium
DESCRIPTION:3rd Annual Canadian Dizziness Symposium \nApril 13\, 2026 \nOttawa\, ON | Infinity Convention Centre \nLearn More! \nRegister Now! \nPatients presenting with dizziness are challenging\, whether this is acute or chronic\, in the clinic or the emergency department. Dizzy patients are difficult to diagnose and manage for all clinicians\, from primary care to specialists and other allied health professionals. This 1-day symposium will provide participants with a solid foundation of clinical knowledge and skills used to diagnose and treat patients with dizziness through a combination of didactic teaching\, case-based learning\, and clinical skills workshops. This year due to popular demand\, we have added a second stream of lectures to add more content into the day! \nTo view sponsorship opportunities\, please click here. \n  \nBureau du développement professionnel continu\nOffice of Continuing Professional Development\n\nFaculté de médecine | Faculty of Medicine\n\nUniversité d’Ottawa | University of Ottawa\n\nÉdifice Loeb | Loeb Building\n725 Parkdale Ave (WM158) Ottawa\, ON K1H 8M5 Canada\n\nuOttawa.ca/faculte-medecine | uOttawa.ca/faculty-medicine
URL:https://cpduottawa.ca/event/canadian-dizziness-symposium/
LOCATION:Infinity Centre\, 2901 Gibford Dr\, Ottawa\, Ontario\, K1V 2L9\, Canada
CATEGORIES:Fellows,Specialists
ATTACH;FMTTYPE=image/png:https://cpduottawa.ca/wp-content/uploads/2025/11/Header-text.png
END:VEVENT
BEGIN:VEVENT
DTSTART;TZID=UTC:20260430T080000
DTEND;TZID=UTC:20260502T170000
DTSTAMP:20260420T234634
CREATED:20260123T195124Z
LAST-MODIFIED:20260126T125235Z
UID:10000252-1777536000-1777741200@cpduottawa.ca
SUMMARY:MAiD2026 - The Next Decade of Choice
DESCRIPTION:MAiD2026 – The Next Decade of Choice\nApril 30 – May 2\, 2026\nDelta Montreal\, Montreal\, QC \nView Conference Details\nRegister Now! \nCourse Description\nHosted by the Canadian Association of MAiD Assessors and Providers\, MAiD2026 will provide you with a high-quality learning and development experience alongside MAiD experts in Canada. \nDon’t miss this opportunity to connect\, learn\, and experience MAiD2026 — Canada’s only annual conference serving the diversity of professionals in MAiD! \n\nATTEND two days of sessions with experts and top-notch speakers and additional pre-conference sessions\nNETWORK with colleagues and experts in MAiD\nDISCOVER new and helpful resources in person and virtually\nEXPAND your network\, learn something new\, and be inspired\n\n  \nThe organization of this conference is being supported by the planning team at the \nUniversity of Ottawa\, Office of Continuing Professional Development.\n  \nQuestions? Please contact cpd@uottawa.ca \nBureau du développement professionnel continu\nOffice of Continuing Professional Development\n\nFaculté de médecine | Faculty of Medicine\n\nUniversité d’Ottawa | University of Ottawa\n\nÉdifice Loeb | Loeb Building\n725 Parkdale Ave (WM158) Ottawa\, ON K1H 8M5 Canada\n\nuOttawa.ca/faculte-medecine | uOttawa.ca/faculty-medicine
URL:https://cpduottawa.ca/event/maid2026-the-next-decade-of-choice/
LOCATION:Delta Montreal\, 475 Av. du Président-Kennedy\, Montreal\, QC\, H3A 1J7\, Canada
CATEGORIES:Fellows,Primary Care,Specialists
ATTACH;FMTTYPE=image/png:https://cpduottawa.ca/wp-content/uploads/2026/01/image2-e1769431934858.png
END:VEVENT
BEGIN:VEVENT
DTSTART;VALUE=DATE:20260511
DTEND;VALUE=DATE:20260513
DTSTAMP:20260420T234634
CREATED:20260403T025055Z
LAST-MODIFIED:20260403T121229Z
UID:10000256-1778457600-1778630399@cpduottawa.ca
SUMMARY:2026 Precision Child and Youth Mental Health Conference
DESCRIPTION:2026 Precision Child and Youth Mental Health Conference\nMay 11 – 12\, 2026\nNational Arts Centre\, Ottawa\, ON\nLearn More\nRegister Now\nView Program\n13 RCPSC Section 1 Hours \nWith unprecedented potential to transform child and youth mental health\, PCYMH is rapidly moving us towards precision care guided by data about each patient’s unique biological\, environmental\, and lifestyle characteristics. \nJoin us for a stimulating two days of discovery and discussion with colleagues in beautiful Ottawa\, Canada’s capital. \nThis program is offered in English only \nOverall Learning Objectives\nAt the end of this conference\, participants will be able to: \nDefine at least two components of Precision Child and Youth Mental Health (PCYMH).\nDescribe one major finding each in PCYMH research involving genetics\, biomarkers\, artificial intelligence (AI) data science\, or preventive/treatment interventions.\nList two concerns about the use of PCYMH in clinical care.\nList two opportunities for better mental health care using PCYMH approaches. \nAccreditation\nThis event is an Accredited Group Learning Activity (Section 1) as defined by the Maintenance of Certification Program of the Royal College of Physicians and Surgeons of Canada and approved by the University of Ottawa’s Office of Continuing Professional Development. You may claim a maximum of 13.00 hours (credits are automatically calculated). \nQuestions?\nPlease contact cpd@uottawa.ca
URL:https://cpduottawa.ca/event/2026-precision-child-and-youth-mental-health-conference/
LOCATION:National Arts Centre\, 1 Elgin Street\, Ottawa\, ontario\, K1P 5W1\, Canada
CATEGORIES:Academia,Fellows,Primary Care,Psychiatry,Researchers,Residents,Social Workers,Specialists
ATTACH;FMTTYPE=image/png:https://cpduottawa.ca/wp-content/uploads/2026/04/26c6ba3fdf914a33bde34ff29ddd3814.png
END:VEVENT
BEGIN:VEVENT
DTSTART;TZID=UTC:20260606T080000
DTEND;TZID=UTC:20260609T170000
DTSTAMP:20260420T234634
CREATED:20250309T235228Z
LAST-MODIFIED:20250503T113217Z
UID:10000184-1780732800-1781024400@cpduottawa.ca
SUMMARY:45th Annual Canadian Academy of Child and Adolescent Psychiatry Conference
DESCRIPTION:Save the Date!\n45th Annual Canadian Academy of Child and Adolescent Psychiatry Conference\nJune 6th – 9th\, 2026\nDelta by Marriott St. John’s Hotel and Conference Centre\, St. John’s\, Newfoundland \nThe Canadian Academy of Child and Adolescent Psychiatry is a national organization of child and adolescent psychiatrists and other professionals in Canada\, committed to advancing the mental health of children\, youth and families through promotion of excellence in care\, advocacy\, education\, research and collaboration with other professionals. Join us in June 2026 for our annual conference! \nMore information will be available soon! To be notified when registration opens\, please contact cpd@uottawa.ca.
URL:https://cpduottawa.ca/event/45th-annual-canadian-academy-of-child-and-adolescent-psychiatry-conference/
CATEGORIES:Allied Healthcare Professionals,Events,Fellows,General Public,Nurse Practitioners,Nursing,Practice Improvement,Primary Care,Professional Development,Psychiatry,Researchers,Residents,Social Workers,Specialists
ATTACH;FMTTYPE=image/png:https://cpduottawa.ca/wp-content/uploads/2025/03/Save-the-date-1048-x-250-px-1.png
END:VEVENT
END:VCALENDAR