BEGIN:VCALENDAR
VERSION:2.0
PRODID:-//University of Ottawa - Office of Continuing Professional Development - ECPv6.15.20//NONSGML v1.0//EN
CALSCALE:GREGORIAN
METHOD:PUBLISH
X-WR-CALNAME:University of Ottawa - Office of Continuing Professional Development
X-ORIGINAL-URL:https://cpduottawa.ca
X-WR-CALDESC:Events for University of Ottawa - Office of Continuing Professional Development
REFRESH-INTERVAL;VALUE=DURATION:PT1H
X-Robots-Tag:noindex
X-PUBLISHED-TTL:PT1H
BEGIN:VTIMEZONE
TZID:UTC
BEGIN:STANDARD
TZOFFSETFROM:+0000
TZOFFSETTO:+0000
TZNAME:UTC
DTSTART:20240101T000000
END:STANDARD
END:VTIMEZONE
BEGIN:VEVENT
DTSTART;VALUE=DATE:20250501
DTEND;VALUE=DATE:20250504
DTSTAMP:20260420T125634
CREATED:20241114T212535Z
LAST-MODIFIED:20250310T002853Z
UID:10000117-1746057600-1746316799@cpduottawa.ca
SUMMARY:MAiD 2025 - Building Bridges
DESCRIPTION:MAiD 2025 – Weathering Change May 1-3\, 2025 Sheraton Wall Centre Vancouver\, BC 12.75 CFPC Mainpro+ Credits 12.75 RCPSC Section 1 Hours View Conference Details Register Now! \nCourse Description Hosted by the Canadian Association of MAiD Assessors and Providers\, MAiD2025 will provide you with a high quality learning and development experience alongside MAiD experts in Canada. \nDon’t miss this opportunity to connect\, learn\, and experience MAiD2025 — Canada’s only annual conference serving the diversity of professionals in MAiD! \n\nATTEND two days of sessions with experts and top-notch speakers and additional pre-conference sessions\nNETWORK with colleagues and experts in MAiD\nDISCOVER new and helpful resources in person and virtually\nEXPAND your network\, learn something new\, and be inspired\n\nQuestions? Please contact Kaitlin Moberg\, Lead Coordinator\, MAiD 2025
URL:https://cpduottawa.ca/event/maid-2025-building-bridges/
LOCATION:Sheraton Wall Centre\, 1000 Burrard St\, Vancouver\, BC\, V6Z 2R9\, Canada
CATEGORIES:Allied Healthcare Professionals,Fellows,General Public,Nursing,Primary Care,Psychiatry,Residents,Social Workers,Specialists
ATTACH;FMTTYPE=image/png:https://cpduottawa.ca/wp-content/uploads/2024/11/6dc3ab8356a94fd0b59b6380cc890c5a-1.png
END:VEVENT
BEGIN:VEVENT
DTSTART;VALUE=DATE:20250504
DTEND;VALUE=DATE:20250505
DTSTAMP:20260420T125634
CREATED:20250310T003649Z
LAST-MODIFIED:20250502T191218Z
UID:10000188-1746316800-1746403199@cpduottawa.ca
SUMMARY:COFAS Foot and Ankle Cadaver Course
DESCRIPTION:COFAS Foot and Ankle Cadaver Course\nMay 4\, 2025\nUniversity of Ottawa Skills and Simulation Centre\n725 Parkdale Ave\, 1st Floor\, Ottawa\, Ontario\nREGISTER NOW! \nJoin us May 4\, 2025 at the University of Ottawa\, Skills and Simulation Centre for the COFAS Foot and Ankle Cadaver Course. \nThe Canadian Orthopaedic Foot and Ankle Society (COFAS) was formed in June of 2002 at the combined meeting of the Canadian and American Orthopaedic Associations. Since then\, COFAS has fostered numerous initiatives related to education\, research and advocacy related to surgical foot and ankle care. \nREGISTRATION FEES\nSpace is limited\, register early to secure your spot – register now! \n\nPhysician Rate: $250 +HST\nResident/Fellow Rate: $25 +HST\n\nYour registration includes an invitation to the COFAS Foot and Ankle Course Dinner\, taking place May 3\, 2025 at 8:30PM. Online registration closes April 30\, 2025. Onsite registration will be available\, should space permit.  \nQuestions?\nPlease contact cpd@uottawa.ca. \n*this course is available in English only
URL:https://cpduottawa.ca/event/cofas-foot-and-ankle-cadaver-course/
LOCATION:ontario
CATEGORIES:Fellows,Professional Development,Researchers,Specialists
ATTACH;FMTTYPE=image/png:https://cpduottawa.ca/wp-content/uploads/2025/03/COFAS2025.png
END:VEVENT
BEGIN:VEVENT
DTSTART;TZID=UTC:20250514T083000
DTEND;TZID=UTC:20250514T160000
DTSTAMP:20260420T125634
CREATED:20241115T144153Z
LAST-MODIFIED:20241115T144207Z
UID:10000156-1747211400-1747238400@cpduottawa.ca
SUMMARY:Crucial Influencer – 1 day course
DESCRIPTION:Crucial Influencer – 1 day course\nTarget Audience: All faculty members from the Faculty of Medicine\nSpeaker: Ms. Sara Munroe\nLocation: in person at the FoM\, Roger Guindon Hall\, Room TBD\nWednesday May 14\, 2025 | 8:30 a.m. to 4:00 p.m.\nDeadline to register May 11\, 2025\nRegister now!\nLearn more \nCes cours et le formulaire d’inscription sont en Anglais seulement. \nPrice:  \n\nResidents: $400 per course or $800 for all three courses ($6\,700 savings!)\nRegistrants Affiliated with uOttawa\, Faculty of Medicine: $500 per course or $1\,000 for all three courses ($6\,500 in savings!)\nRegistrants Not Affiliated with uOttawa\, Faculty of Medicine: $2\,500 per course or $5\,000 for all three courses ($2\,500 in savings!\n\nFees include all materials and lunch. \nCancellation Policy: Refunds less $75 administrative charge will be issued for cancellations received in writing by May 11\, 2025. No refunds will be issued for cancellations received after that date. \nCourse Description:\nTHE NEW SCIENCE OF LEADERSHIP: When facing persistent\, resistant challenges\, leaders often surrender to poor results or invest in change efforts that waste time and resources. And yet it’s possible to influence behavior with surprisingly predictable success. For the past thirty years\, we’ve studied leaders with a proven ability to influence rapid\, profound and sustainable change. And here’s what we know: human behavior is grounded in six sources of influence. Effective leaders know how to leverage and apply these sources to influence real results. Influencer goes beyond corporate perks and charismatic personalities to teach a method for changing ingrained human behavior. Leaders learn how to achieve better results by changing human habits that are extraordinarily difficult to alter—especially those that mire down teams and organizations. Drawing on the skills of the world’s best change agents and five decades of social-science research\, Influencer teaches why people do what they do and how to help them act differently. \nQuestions? Please contact cpd@uottawa.ca.
URL:https://cpduottawa.ca/event/crucial-influencer-1-day-course/
LOCATION:University of Ottawa Roger Guindon Hall\, 451 Smyth Rd\, Ottawa\, Ontario\, K1N 6N5\, Canada
CATEGORIES:Academia,Allied Healthcare Professionals,Basic Science,Dentistry,Events,Faculty Development,Fellows,General Public,Leadership,Midwifery,Nursing,Practice Improvement,Primary Care,Professional Development,Psychiatry,Researchers,Residents,Social Workers,Specialists
ATTACH;FMTTYPE=image/png:https://cpduottawa.ca/wp-content/uploads/2024/07/ECT-Banner-4.png
END:VEVENT
BEGIN:VEVENT
DTSTART;VALUE=DATE:20250515
DTEND;VALUE=DATE:20250516
DTSTAMP:20260420T125634
CREATED:20241115T150950Z
LAST-MODIFIED:20250502T190922Z
UID:10000159-1747267200-1747353599@cpduottawa.ca
SUMMARY:Update in Dermatology
DESCRIPTION:Update in Dermatology\nMay 15\, 2025\nThe Ottawa Conference and Event Centre\, Ottawa\, Ontario\nHybrid Conference \nRegister now!\nView Course Program and Learn more\nSponsorship Opportunities \nEarly bird registration ends April 25\, 2024 – register early and save! \nThe University of Ottawa\, Office of Continuing Professional Development and the University of Ottawa\, Division of Dermatology are proud to offer the 1-day course in Dermatology for primary care physicians\, nurse practitioners\, residents and other interested primary care providers. This course will provide education in dermatology focusing on practical diagnosis and management. There will also be updates on the latest dermatology treatment options and newest discoveries in patient care. The speakers are drawn from the teaching faculty of the University of Ottawa Division of Dermatology and Community Dermatologists. \nQuestions? Please contact Kassaundra Black\, Lead Coordinator. \n*This course is offered in English only
URL:https://cpduottawa.ca/event/update-in-dermatology/
LOCATION:ontario
CATEGORIES:Allied Healthcare Professionals,Dermatologist,Events,Faculty Development,Fellows,Nurse Practitioners,Nursing,Physicists,Primary Care,Professional Development,Residents,Specialists
ATTACH;FMTTYPE=image/png:https://cpduottawa.ca/wp-content/uploads/2024/11/ECT-Banner-5.png
END:VEVENT
END:VCALENDAR