BEGIN:VCALENDAR
VERSION:2.0
PRODID:-//University of Ottawa - Office of Continuing Professional Development - ECPv6.15.20//NONSGML v1.0//EN
CALSCALE:GREGORIAN
METHOD:PUBLISH
X-WR-CALNAME:University of Ottawa - Office of Continuing Professional Development
X-ORIGINAL-URL:https://cpduottawa.ca
X-WR-CALDESC:Events for University of Ottawa - Office of Continuing Professional Development
REFRESH-INTERVAL;VALUE=DURATION:PT1H
X-Robots-Tag:noindex
X-PUBLISHED-TTL:PT1H
BEGIN:VTIMEZONE
TZID:UTC
BEGIN:STANDARD
TZOFFSETFROM:+0000
TZOFFSETTO:+0000
TZNAME:UTC
DTSTART:20240101T000000
END:STANDARD
END:VTIMEZONE
BEGIN:VEVENT
DTSTART;VALUE=DATE:20250130
DTEND;VALUE=DATE:20250202
DTSTAMP:20260420T165538
CREATED:20240319T161232Z
LAST-MODIFIED:20241209T153236Z
UID:10000061-1738195200-1738454399@cpduottawa.ca
SUMMARY:Canadian Shoulder and Elbow Society's Resident Course
DESCRIPTION:Register today!\nJanuary 30 – February 1\, 2025\nCourse Website \nRegistration Fees – Register Now!\nRegister by December 20\, 2024 and save!\n \n\nEarly Bird Rate (PGY 3\, 4\, 5 and Upper Extremity Fellows): $225 +HST\nStandard Rate (PGY 3\, 4\, 5 and Upper Extremity Fellows): $260 +HST\n\nYour registration fee includes three days of exceptional CME activities\, including access to the surgical skills labs and a ticket to the CSES Course Reception and Dinner\, taking place January 30\, 2025. \nCourse Highlights*\n20+ Expert Faculty Instructors\nSmall Group Case Based Interactive Sessions\n4 Hands on Labs: \n\nElbow Arthroscopy\nShoulder Arthroscopy\nShoulder Arthroplasty\nUltrasound Guided Injections\n\nCourse Location\nUniversity of Ottawa\, Skills and Simulation Centre (725 Parkdale Ave\, 1st Floor\, Ottawa)\nA daily shuttle from the Lord Elgin Hotel to/from the University of Ottawa\, Skills and Simulation Centre will be available to all attendees. \nAccreditation \nThis event is an Accredited Group Learning Activity (Section 1) as defined by the Maintenance of Certification Program of the Royal College of Physicians and Surgeons of Canada\, and approved by the University of Ottawa’s Office of Continuing Professional Development. You may claim a maximum of 3.50 hours (credits are automatically calculated).\n\nThis event is an Accredited Simulation Activity (Section 3) as defined by the Maintenance of Certification Program of the Royal College of Physicians and Surgeons of Canada\, and approved by the University of Ottawa’s Office of Continuing Professional Development. You may claim a maximum of 9.00 hours (credits are automatically calculated).\n\nThis event is an Accredited Self-Assessment Program (Section 3) as defined by the Maintenance of Certification Program of the Royal College of Physicians and Surgeons of Canada\, and approved by the University of Ottawa’s Office of Continuing Professional Development. You may claim a maximum of 9.00 hours (credits are automatically calculated).\nAccommodations\nA block of rooms has been set aside at the Lord Elgin Hotel (100 Elgin St\, Ottawa\, ON K1P 5K8)\, located in the heart of downtown Ottawa. A daily shuttle from the Lord Elgin Hotel to/from the University of Ottawa\, Skills and Simulation Centre will be available to all attendees. \nTo book your room\, click here or contact the Lord Elgin directly (1-800-267-4298 / groups@lordelgin.ca) and quote the details below to make your reservation. Guest room rates start at $205/night and must be booked by December 30\, 2024 to receive the group rate. \n\nBooking code: 5150646\nBooking name: CSES Resident Course 2025
URL:https://cpduottawa.ca/event/canadian-shoulder-and-elbow-societys-resident-course/
LOCATION:ontario
CATEGORIES:Fellows,Residents,Specialists
ATTACH;FMTTYPE=image/png:https://cpduottawa.ca/wp-content/uploads/2024/03/KNEE2024-Header-1048-x-250-px-1.png
END:VEVENT
BEGIN:VEVENT
DTSTART;TZID=UTC:20250205T083000
DTEND;TZID=UTC:20250205T160000
DTSTAMP:20260420T165538
CREATED:20241115T140306Z
LAST-MODIFIED:20241115T140306Z
UID:10000147-1738744200-1738771200@cpduottawa.ca
SUMMARY:Crucial Series: Getting Things Done
DESCRIPTION:Getting Things Done – 1 day course\nWednesday February 5\, 2025 | 8:30 a.m. to 4:00 p.m.\nDeadline to register is February 2\, 2025\nTarget Audience: All faculty members from the Faculty of Medicine\nSpeaker: Ms. Sara Munroe\nLocation: in person at the FoM\, Roger Guindon Hall\, Room TBD\nRegister now!\nLearn more \nCes cours et le formulaire d’inscription sont en Anglais seulement. \nPrice:  \n\nResidents: $400 per course or $800 for all three courses ($6\,700 savings!)\nRegistrants Affiliated with uOttawa\, Faculty of Medicine: $500 per course or $1\,000 for all three courses ($6\,500 in savings!)\nRegistrants Not Affiliated with uOttawa\, Faculty of Medicine: $2\,500 per course or $5\,000 for all three courses ($2\,500 in savings!\n\nFees include all materials and lunch. \nThe Getting Things Done® (GTD®) methodology was developed 30 years ago by New York Times bestselling author David Allen. The course teaches skills to manage the constant flow of requests\, tasks\, and interruptions people face at all levels of the organization. By learning how to capture\, clarify\, and organize incoming requests\, people are more likely to make strategic decisions about where to invest their time and energy\, focus on the right priorities\, and prevent critical projects from slipping. When used consistently and collectively\, GTD skills also give teams a “way of working” for improved results. The in-person experience of Getting Things Done is an engaging classroom course rich with peer discussion\, real-time practice\, and group support and coaching. Delivered in one day\, this in-person course offers the best in traditional learning and development. \nCancellation Policy: Refunds less $75 administrative charge will be issued for cancellations received in writing by February 2\, 2025. No refunds will be issued for cancellations received after that date. \nQuestions? Please contact cpd@uottawa.ca.
URL:https://cpduottawa.ca/event/crucial-series-getting-things-done/
LOCATION:University of Ottawa Roger Guindon Hall\, 451 Smyth Rd\, Ottawa\, Ontario\, K1N 6N5\, Canada
CATEGORIES:Academia,Allied Healthcare Professionals,Basic Science,Events,Faculty Development,Fellows,General Public,Leadership,Midsifery,Midwifery,Nursing,Practice Improvement,Primary Care,Professional Development,Psychiatry,Researchers,Residents,Specialists
ATTACH;FMTTYPE=image/png:https://cpduottawa.ca/wp-content/uploads/2024/07/ECT-Banner-3.png
END:VEVENT
END:VCALENDAR